BEGIN:VCALENDAR
VERSION:2.0
PRODID:-//Ritger Legacy Bowling Camps - ECPv6.15.20//NONSGML v1.0//EN
CALSCALE:GREGORIAN
METHOD:PUBLISH
X-ORIGINAL-URL:https://ritgerlegacybowlingcamps.com
X-WR-CALDESC:Events for Ritger Legacy Bowling Camps
REFRESH-INTERVAL;VALUE=DURATION:PT1H
X-Robots-Tag:noindex
X-PUBLISHED-TTL:PT1H
BEGIN:VTIMEZONE
TZID:America/New_York
BEGIN:DAYLIGHT
TZOFFSETFROM:-0500
TZOFFSETTO:-0400
TZNAME:EDT
DTSTART:20240310T070000
END:DAYLIGHT
BEGIN:STANDARD
TZOFFSETFROM:-0400
TZOFFSETTO:-0500
TZNAME:EST
DTSTART:20241103T060000
END:STANDARD
BEGIN:DAYLIGHT
TZOFFSETFROM:-0500
TZOFFSETTO:-0400
TZNAME:EDT
DTSTART:20250309T070000
END:DAYLIGHT
BEGIN:STANDARD
TZOFFSETFROM:-0400
TZOFFSETTO:-0500
TZNAME:EST
DTSTART:20251102T060000
END:STANDARD
BEGIN:DAYLIGHT
TZOFFSETFROM:-0500
TZOFFSETTO:-0400
TZNAME:EDT
DTSTART:20260308T070000
END:DAYLIGHT
BEGIN:STANDARD
TZOFFSETFROM:-0400
TZOFFSETTO:-0500
TZNAME:EST
DTSTART:20261101T060000
END:STANDARD
END:VTIMEZONE
BEGIN:VEVENT
DTSTART;VALUE=DATE:20250809
DTEND;VALUE=DATE:20250811
DTSTAMP:20260422T014332
CREATED:20210316T020521Z
LAST-MODIFIED:20250325T183030Z
UID:5587-1754697600-1754870399@ritgerlegacybowlingcamps.com
SUMMARY:Coach Training - Liverpool\, NY
DESCRIPTION:[vc_row][vc_column][vc_column_text]\nJump to Registration Form » \n[/vc_column_text][vc_row_inner][vc_column_inner][vc_column_text]The Coach Training class is a comprehensive instructional program for aspiring instructors. \nLevel I Class (Day 1) $ 150 per person\n\nHands on training experience\nLearn to teach six skill development drills designed to develop mastery for bowlers\nLearn to apply 15 corrective drills designed to alter a bowler’s delivery to develop consistency\nAnalysis of bowlers styles\nRitger Level I certification (Physical Game) upon completion of Day 1\n\nLevel II  $ 275 per person\n\nTechniques to teach line bowling\nA study of lane conditions and adjustments\nA comprehensive adjustment system that is easy to teach\nPrecision spare shooting systems that improve conversion rate on any lane condition\nTraining manual\nRitger Level II certification upon completion of the two-day course\n\nIn addition to coach training\, we also conduct four-day bowler training programs\, two-day Refreshers for returning students\, 3-day Accelerated Programs and Advanced Programs. \nFor more information on all of our programs please call us at: 1-848-373-8005.[/vc_column_text][vc_column_text]\nRegistration Form \n[/vc_column_text]\n\n                \n                        Contact InformationCoaches Name*\n                            \n                            \n                                                    First Name\n                                                    \n                                                \n                            \n                            \n                                                            Last Name\n                                                            \n                                                        \n                            \n                        Coaches Email\n                            \n                        Coaches Phone*May we text you at this number?*\n			\n				\n				Yes\n			\n			\n				\n				No\n			Address*    \n                    \n                         \n                                        \n                                        Address\n                                    \n                                    \n                                    City\n                                 \n                                        StateAlabamaAlaskaAmerican SamoaArizonaArkansasCaliforniaColoradoConnecticutDelawareDistrict of ColumbiaFloridaGeorgiaGuamHawaiiIdahoIllinoisIndianaIowaKansasKentuckyLouisianaMaineMarylandMassachusettsMichiganMinnesotaMississippiMissouriMontanaNebraskaNevadaNew HampshireNew JerseyNew MexicoNew YorkNorth CarolinaNorth DakotaNorthern Mariana IslandsOhioOklahomaOregonPennsylvaniaPuerto RicoRhode IslandSouth CarolinaSouth DakotaTennesseeTexasUtahU.S. Virgin IslandsVermontVirginiaWashingtonWest VirginiaWisconsinWyomingArmed Forces AmericasArmed Forces EuropeArmed Forces Pacific\n                                        State\n                                      \n                                    \n                                    ZIP Code\n                                \n                    \n                Secondary Contact Person\n                            \n                            \n                                                    First Name\n                                                    \n                                                \n                            \n                            \n                                                            Last Name\n                                                            \n                                                        \n                            \n                        Secondary/Emergency Contact PhoneMay we text to the secondary/emergency phone?\n			\n				\n				Yes\n			\n			\n				\n				No\n			Are you registering for Level I or Level II?*Level I certification is earned for attending day 1 (physical game) training. Cost of the Level I class is $ 150.\nCoaches will achieve Level II certification after completing both days of the training. Cost of Level II is $ 275. \n			\n				\n				Level I deposit (Saturday only)\n			\n			\n				\n				Level II deposit (Saturday-Sunday)\n			How did you hear about our program?\n								\n								Internet Search\n							\n								\n								Brochure\n							\n								\n								Facebook\n							\n								\n								Email\n							\n								\n								Friend\n							\n								\n								Bowling Center\n							If referred by a friend or bowling center\, please indicate the name below:**IMPORTANT: If the Contact Person is attending\, please also list under the attendees section below. Please confirm you have read the message below:*When you submit the form\, you will be taken to a page where you can pay with Credit/Debit Card or a PayPal account.  You may need to scroll down to see the Credit/Debit Card option. You do not need a PayPal account.\n								\n								I confirm I have read the statement regarding payment above.\n							Additional Notes/Comments (optional)Total\n							$0.00\n							\n						\n          \n            \n            \n            \n            \n            \n            \n            \n            \n            \n            \n            \n            \n            \n        \n                        \n                        \n[/vc_column_inner][/vc_row_inner][/vc_column][/vc_row]
URL:https://ritgerlegacybowlingcamps.com/event/coach-training-liverpool-ny/
LOCATION:Flamingo Bowl\, 7239 Oswego Road\, Liverpool\, NY\, 13090\, United States
CATEGORIES:Coach Certification
ORGANIZER;CN="Ritger Legacy Bowling Camps":MAILTO:info@ritgerlegacybowlingcamps.com
END:VEVENT
END:VCALENDAR