BEGIN:VCALENDAR
VERSION:2.0
PRODID:-//Ritger Legacy Bowling Camps - ECPv6.15.20//NONSGML v1.0//EN
CALSCALE:GREGORIAN
METHOD:PUBLISH
X-WR-CALNAME:Ritger Legacy Bowling Camps
X-ORIGINAL-URL:https://ritgerlegacybowlingcamps.com
X-WR-CALDESC:Events for Ritger Legacy Bowling Camps
REFRESH-INTERVAL;VALUE=DURATION:PT1H
X-Robots-Tag:noindex
X-PUBLISHED-TTL:PT1H
BEGIN:VTIMEZONE
TZID:America/New_York
BEGIN:DAYLIGHT
TZOFFSETFROM:-0500
TZOFFSETTO:-0400
TZNAME:EDT
DTSTART:20240310T070000
END:DAYLIGHT
BEGIN:STANDARD
TZOFFSETFROM:-0400
TZOFFSETTO:-0500
TZNAME:EST
DTSTART:20241103T060000
END:STANDARD
BEGIN:DAYLIGHT
TZOFFSETFROM:-0500
TZOFFSETTO:-0400
TZNAME:EDT
DTSTART:20250309T070000
END:DAYLIGHT
BEGIN:STANDARD
TZOFFSETFROM:-0400
TZOFFSETTO:-0500
TZNAME:EST
DTSTART:20251102T060000
END:STANDARD
BEGIN:DAYLIGHT
TZOFFSETFROM:-0500
TZOFFSETTO:-0400
TZNAME:EDT
DTSTART:20260308T070000
END:DAYLIGHT
BEGIN:STANDARD
TZOFFSETFROM:-0400
TZOFFSETTO:-0500
TZNAME:EST
DTSTART:20261101T060000
END:STANDARD
END:VTIMEZONE
BEGIN:VEVENT
DTSTART;TZID=America/New_York:20250827T090000
DTEND;TZID=America/New_York:20250829T170000
DTSTAMP:20260422T012400
CREATED:20240402T151944Z
LAST-MODIFIED:20250613T020030Z
UID:5859-1756285200-1756486800@ritgerlegacybowlingcamps.com
SUMMARY:Coach Training - Bowlero North Brunswick\, NJ
DESCRIPTION:[vc_row][vc_column][vc_row_inner][vc_column_inner width=”1/2″]North Brunswick\, NJ - Coach TrainingAugust 27-29\, 2025Level III Coach Training$ 375 (Wednesday-Friday) $ 150 for Level I only (Wednesday)[/vc_column_inner][vc_column_inner width=”1/2″][vc_column_text]If you attended Ritger coach training in the past and would like to achieve Level 3 certification\, please contact us at 848-373-8005.[/vc_column_text][/vc_column_inner][/vc_row_inner][vc_row_inner][vc_column_inner width=”1/2″]Level I Certification[vc_column_text]The Ritger Level I coach training program is a one-day course that addresses the physical game of bowling. Coaches will learn a set of six skill development drills that can be used for group or individual instruction. Coaches will also learn to develop a “coaches eye” and learn corrective drills that can be used to change the feeling of the delivery for their students. Coaches who complete this one-day program will be considered a Level I instructor with the Dick Ritger Academy for Bowlers Coach Training Program. \n\nLevel I Coach Training Overview\n\nA ‘Skill Drill Progression’ that guarantees success\nCoaches technique for hands on training\nGroup teaching techniques\nHow to individualize teaching within the group teaching\n\nParticipation is the ‘order of the day’…BRING YOUR EQUIPMENT![/vc_column_text][/vc_column_inner][vc_column_inner width=”1/2″]Level II Certification[vc_column_text]The Ritger Level II coach training program is a comprehensive study of lane play. adjustments\, spare shooting\, and ball reaction. Coaches will learn a mathematical system to play the lanes that will allow their bowlers to find the pocket in three shots or less. Spare shooting systems are also taught here. The Level I coach training is a pre-requisite to this class. \n\nLevel II Coach Training Overview\nLine bowling – techniques to build accuracy \nLane Play – A mathematical system for adjusting quickly to find the pocket. \nSpare shooting system to increase spare conversion rate \nStudy of ball motion and alternative adjustment systems \nBring your equipment along… this is a hands-on experience! \n[/vc_column_text][/vc_column_inner][/vc_row_inner][vc_row_inner][vc_column_inner width=”1/2″]Level III Certification[vc_column_text]The Ritger Level III coach training program is a one-day course that integrates the physical game drills and the adjustment systems presented in the Level II course. Coaches will learn corrective techniques that can be applied quickly and that produce immediate results for the student. Coaches will train bowlers in a clinic setting under the tutelage of our expert instructor. The instructor will help the coaches develop his/her “coaches eye” and will instruct them in methods to recognize common problems and then apply corrective solutions. Coaches who complete all three coach training classes will be considered a Level III instructor with the Dick Ritger Academy for Bowlers Coach Training Program. \n\nLevel III Coach Training Overview\n\nCorrective drills give the bowler the correct “feel” to build consistency\nCoaches technique for hands on training\nTrain bowlers under the watchful eye of a mentor with 30+ years experience to apply the teaching techniques that you learn\nLearn how to individualize teaching within a group teaching\n\nParticipation is the ‘order of the day’…BRING YOUR EQUIPMENT![/vc_column_text][/vc_column_inner][/vc_row_inner]\n\n                \n                        \n                            Coach Training - North Brunswick\, NJ 8/27 - 8/29/2025 Registration\n                            Please use the form below to register. Level I training (Wednesday only) is $ 150. Tuition for the Level III training is $375 for the three-day training course (Wednesday-Friday). We require a $50 deposit per student. When you submit the form\, you will be taken to a page where you can pay with a Credit/Debit Card or use a PayPal account. We will invoice you for the remaining balance when the program is confirmed. \n                        \n                        Contact InformationCoaches Name*\n                            \n                            \n                                                    First Name\n                                                    \n                                                \n                            \n                            \n                                                            Last Name\n                                                            \n                                                        \n                            \n                        Coaches Email\n                            \n                        Coaches Phone*May we text you at this number?*\n			\n				\n				Yes\n			\n			\n				\n				No\n			Address*    \n                    \n                         \n                                        \n                                        Address\n                                    \n                                    \n                                    City\n                                 \n                                        StateAlabamaAlaskaAmerican SamoaArizonaArkansasCaliforniaColoradoConnecticutDelawareDistrict of ColumbiaFloridaGeorgiaGuamHawaiiIdahoIllinoisIndianaIowaKansasKentuckyLouisianaMaineMarylandMassachusettsMichiganMinnesotaMississippiMissouriMontanaNebraskaNevadaNew HampshireNew JerseyNew MexicoNew YorkNorth CarolinaNorth DakotaNorthern Mariana IslandsOhioOklahomaOregonPennsylvaniaPuerto RicoRhode IslandSouth CarolinaSouth DakotaTennesseeTexasUtahU.S. Virgin IslandsVermontVirginiaWashingtonWest VirginiaWisconsinWyomingArmed Forces AmericasArmed Forces EuropeArmed Forces Pacific\n                                        State\n                                      \n                                    \n                                    ZIP Code\n                                \n                    \n                Secondary Contact Person\n                            \n                            \n                                                    First Name\n                                                    \n                                                \n                            \n                            \n                                                            Last Name\n                                                            \n                                                        \n                            \n                        Secondary/Emergency Contact PhoneMay we text to the secondary/emergency phone?\n			\n				\n				Yes\n			\n			\n				\n				No\n			Are you registering for Level I or Level III?*Level I certification is earned for attending day 1 (physical game) training. Cost of the Level I class is $ 150.\nCoaches will achieve Level III certification after completing all three days of the training. Cost of Level III is $375. \n			\n				\n				Level I deposit (Wednesday only)\n			\n			\n				\n				Level III deposit (Wednesday-Friday)\n			How did you hear about our program?\n								\n								Internet Search\n							\n								\n								Brochure\n							\n								\n								Facebook\n							\n								\n								Email\n							\n								\n								Friend\n							\n								\n								Bowling Center\n							If referred by a friend or bowling center\, please indicate the name below:**IMPORTANT: If the Contact Person is attending\, please also list under the attendees section below. Please confirm you have read the message below:*When you submit the form\, you will be taken to a page where you can pay with Credit/Debit Card or a PayPal account.  You may need to scroll down to see the Credit/Debit Card option. You do not need a PayPal account.\n								\n								I confirm I have read the statement regarding payment above.\n							Additional Notes/Comments (optional)Total\n							$0.00\n							\n						\n          \n            \n            \n            \n            \n            \n            \n            \n            \n            \n            \n            \n            \n            \n        \n                        \n                        \n[/vc_column][/vc_row]
URL:https://ritgerlegacybowlingcamps.com/event/coach-training-n-brunswick-nj-2024/
LOCATION:Bowlero North Brunswick\, 1 Carolier Lane\, North Brunswick\, NJ\, 08902\, United States
CATEGORIES:Coach Certification
ORGANIZER;CN="Ritger Legacy Bowling Camps":MAILTO:info@ritgerlegacybowlingcamps.com
END:VEVENT
END:VCALENDAR