BEGIN:VCALENDAR
VERSION:2.0
PRODID:-//Ritger Legacy Bowling Camps - ECPv6.15.20//NONSGML v1.0//EN
CALSCALE:GREGORIAN
METHOD:PUBLISH
X-WR-CALNAME:Ritger Legacy Bowling Camps
X-ORIGINAL-URL:https://ritgerlegacybowlingcamps.com
X-WR-CALDESC:Events for Ritger Legacy Bowling Camps
REFRESH-INTERVAL;VALUE=DURATION:PT1H
X-Robots-Tag:noindex
X-PUBLISHED-TTL:PT1H
BEGIN:VTIMEZONE
TZID:America/New_York
BEGIN:DAYLIGHT
TZOFFSETFROM:-0500
TZOFFSETTO:-0400
TZNAME:EDT
DTSTART:20250309T070000
END:DAYLIGHT
BEGIN:STANDARD
TZOFFSETFROM:-0400
TZOFFSETTO:-0500
TZNAME:EST
DTSTART:20251102T060000
END:STANDARD
BEGIN:DAYLIGHT
TZOFFSETFROM:-0500
TZOFFSETTO:-0400
TZNAME:EDT
DTSTART:20260308T070000
END:DAYLIGHT
BEGIN:STANDARD
TZOFFSETFROM:-0400
TZOFFSETTO:-0500
TZNAME:EST
DTSTART:20261101T060000
END:STANDARD
BEGIN:DAYLIGHT
TZOFFSETFROM:-0500
TZOFFSETTO:-0400
TZNAME:EDT
DTSTART:20270314T070000
END:DAYLIGHT
BEGIN:STANDARD
TZOFFSETFROM:-0400
TZOFFSETTO:-0500
TZNAME:EST
DTSTART:20271107T060000
END:STANDARD
END:VTIMEZONE
BEGIN:VEVENT
DTSTART;TZID=America/New_York:20260706T093000
DTEND;TZID=America/New_York:20260708T160000
DTSTAMP:20260421T135914
CREATED:20240211T200005Z
LAST-MODIFIED:20260317T212730Z
UID:5807-1783330200-1783526400@ritgerlegacybowlingcamps.com
SUMMARY:Howell\, NJ - 2026
DESCRIPTION:[vc_row][vc_column]\n\n                \n                        \n                            Howell 7/6/2026 - Camp Registration\n                            Please use the form below to register students. Camp tuition is $519 per student. We require a $200 deposit per student. When you submit the form\, you will be taken to a page where you can pay with a Credit/Debit Card or use a PayPal account. We will invoice you for the remaining balance when the program is confirmed. \n                        1Contact Information2Attendees3Billing Information\n                        \n					Contact InformationContact Person*\n                            \n                            \n                                                    First Name\n                                                    \n                                                \n                            \n                            \n                                                            Last Name\n                                                            \n                                                        \n                            \n                        Contact Email\n                            \n                        Contact Phone*May we text you at this number?*\n			\n				\n				Yes\n			\n			\n				\n				No\n			Contact Address*    \n                    \n                         \n                                        \n                                        Address\n                                    \n                                    \n                                    City\n                                 \n                                        StateAlabamaAlaskaAmerican SamoaArizonaArkansasCaliforniaColoradoConnecticutDelawareDistrict of ColumbiaFloridaGeorgiaGuamHawaiiIdahoIllinoisIndianaIowaKansasKentuckyLouisianaMaineMarylandMassachusettsMichiganMinnesotaMississippiMissouriMontanaNebraskaNevadaNew HampshireNew JerseyNew MexicoNew YorkNorth CarolinaNorth DakotaNorthern Mariana IslandsOhioOklahomaOregonPennsylvaniaPuerto RicoRhode IslandSouth CarolinaSouth DakotaTennesseeTexasUtahU.S. Virgin IslandsVermontVirginiaWashingtonWest VirginiaWisconsinWyomingArmed Forces AmericasArmed Forces EuropeArmed Forces Pacific\n                                        State\n                                      \n                                    \n                                    ZIP Code\n                                \n                    \n                Secondary Contact Person*\n                            \n                            \n                                                    First Name\n                                                    \n                                                \n                            \n                            \n                                                            Last Name\n                                                            \n                                                        \n                            \n                        Secondary/Emergency Contact Phone*May we text to the secondary/emergency phone?*\n			\n				\n				Yes\n			\n			\n				\n				No\n			How many students are you registering: Quantity*Each student will be charged a $200 deposit. We will invoice you for the remaining balance.\n					\n					\n						Price:\n						$200.00\n					\n					\n					 Quantity \n				How did you hear about our program?\n								\n								Internet Search\n							\n								\n								Brochure\n							\n								\n								Facebook\n							\n								\n								Email\n							\n								\n								Friend\n							\n								\n								Bowling Center\n							If referred by a friend or bowling center\, please indicate the name below:\n                    \n                    \n                          \n                    \n                \n                \n                    \n                        **IMPORTANT: If the Contact Person is attending\, please also list under the attendees section below. Attendees: (If Contact Person is attending\, include them under Attendees below)\n\n	\n\n		\n		\n							\n					Attendee				\n							\n					How should the name appear on the certificate?				\n							\n					Address (if different than contact person)				\n							\n					Phone (if different than contact person)				\n							\n					Email (if different than contact person)				\n							\n					Age				\n							\n					Male/Female				\n							\n					Average				\n							\n					Style				\n							\n					Are you				\n						Actions\n		\n		\n\n		\n		\n							 \n							 \n							 \n							 \n							 \n							 \n							 \n							 \n							 \n							 \n						\n				\n					Edit\n										Delete\n				\n			\n		\n		\n\n		\n		\n			\n				There are no Attendees.			\n		\n		\n\n	\n\n	\n				Add Attendee\n				\n			\n				Maximum number of attendees reached.\n			 \n\n\n                    \n                    \n                          \n                    \n                \n                \n                    \n                        Please confirm you have read the message below:*When you submit the form\, you will be taken to a page where you can pay with Credit/Debit Card or a PayPal account.  You may need to scroll down to see the Credit/Debit Card option. You do not need a PayPal account.\n								\n								I confirm I have read the statement regarding payment above.\n							Additional Notes/Comments (optional)Total\n							$0.00\n							\n						\n          \n            \n            \n            \n            \n            \n            \n            \n            \n            \n            \n            \n            \n            \n        \n             \n                        \n                        \n[/vc_column][/vc_row][vc_row][vc_column][vc_column_text]\nJump to Registration Form »\n[/vc_column_text][vc_row_inner][vc_column_inner][vc_column_text]\nT.A.C.S. Bowling Camp – Elevate Your Game!\nJoin us for the T.A.C.S. (Targeting\, Accuracy\, Consistency\, Spare Shooting) 3-Day Training Camp \nThis elite program is designed to enhance your physical game\, improve accuracy\, and develop a more consistent shot. \nWhat You’ll Learn:\n✅ Six Skill Drills – Master techniques to develop your “Total Strike Feeling” for consistency and accuracy. \n✅ Lane Reading & Adjustments – Learn how to navigate changing lane conditions with confidence. \n✅ Spare Shooting Systems – Increase your spare conversion rate with proven strategies. \n✅ Sport-Compliant Lane Play – Train on challenging conditions to refine your adaptability. \n✅ Much\, much more! \nPersonalized Coaching & Video Analysis\n\nEach bowler receives an individual written evaluation at the start of the program.\nOngoing video analysis provides real-time feedback and a before-and-after comparison to track progress.\n\nSchedule & Details\n📅 Dates: July 6-8\, 2026🕤 Time: 9:30 AM – 4:00 PM (Lunch Break: 12:30 – 1:30 PM)💰 Cost: Includes all bowling sessions and materials. \nTake your game to the next level with expert training in a fun and challenging environment. Sign up today for an unforgettable bowling experience! \n  \nIn addition to our four-day programs\, we also conduct Coach Certification\, Two-Day Refreshers\, 3 Day Accelerated Programs and Advanced Programs. \nFor more information on all of our programs please call us at: 1-848-373-8005.[/vc_column_text][vc_column_text]\nRegistration Form\n[/vc_column_text]\n                \n                        Attendee*\n                            \n                            \n                                                    \n                                                    First\n                                                \n                            \n                            \n                                                    \n                                                    Last\n                                                \n                            \n                        How should the name appear on the certificate?*Address (if different than contact person)    \n                    \n                         \n                                        \n                                        Street Address\n                                    \n                                    \n                                    City\n                                 \n                                        AlabamaAlaskaAmerican SamoaArizonaArkansasCaliforniaColoradoConnecticutDelawareDistrict of ColumbiaFloridaGeorgiaGuamHawaiiIdahoIllinoisIndianaIowaKansasKentuckyLouisianaMaineMarylandMassachusettsMichiganMinnesotaMississippiMissouriMontanaNebraskaNevadaNew HampshireNew JerseyNew MexicoNew YorkNorth CarolinaNorth DakotaNorthern Mariana IslandsOhioOklahomaOregonPennsylvaniaPuerto RicoRhode IslandSouth CarolinaSouth DakotaTennesseeTexasUtahU.S. Virgin IslandsVermontVirginiaWashingtonWest VirginiaWisconsinWyomingArmed Forces AmericasArmed Forces EuropeArmed Forces Pacific\n                                        State\n                                      \n                                    \n                                    ZIP Code\n                                \n                    \n                Phone (if different than contact person)Email (if different than contact person)\n                            \n                        Age*Male/Female*\n			\n				\n				Male\n			\n			\n				\n				Female\n			New/Repeat Student*\n			\n				\n				New Student\n			\n			\n				\n				Repeat Student\n			Average*Style*\n			\n				\n				Traditional\n			\n			\n				\n				Two-Handed\n			Are you*\n			\n				\n				Right Handed\n			\n			\n				\n				Left Handed\n			\n          \n            \n            \n            \n            \n            \n            \n            \n            \n            \n            \n            \n            \n            \n        \n                        \n                        \n[/vc_column_inner][/vc_row_inner][/vc_column][/vc_row]
URL:https://ritgerlegacybowlingcamps.com/event/howell-nj-2024/
LOCATION:Rev Rates VIP (Inside Howell Lanes)\, 1002 U.S. 9\, Howell\, NJ\, 07731\, United States
CATEGORIES:T.A.C.S. Training Camp,Three day T.A.C.S. Camp
ORGANIZER;CN="Ritger Legacy Bowling Camps":MAILTO:info@ritgerlegacybowlingcamps.com
END:VEVENT
END:VCALENDAR