BEGIN:VCALENDAR
VERSION:2.0
PRODID:-//Ritger Legacy Bowling Camps - ECPv6.15.20//NONSGML v1.0//EN
CALSCALE:GREGORIAN
METHOD:PUBLISH
X-WR-CALNAME:Ritger Legacy Bowling Camps
X-ORIGINAL-URL:https://ritgerlegacybowlingcamps.com
X-WR-CALDESC:Events for Ritger Legacy Bowling Camps
REFRESH-INTERVAL;VALUE=DURATION:PT1H
X-Robots-Tag:noindex
X-PUBLISHED-TTL:PT1H
BEGIN:VTIMEZONE
TZID:UTC
BEGIN:STANDARD
TZOFFSETFROM:+0000
TZOFFSETTO:+0000
TZNAME:UTC
DTSTART:20190101T000000
END:STANDARD
END:VTIMEZONE
BEGIN:VEVENT
DTSTART;VALUE=DATE:20200624
DTEND;VALUE=DATE:20200628
DTSTAMP:20260421T222356
CREATED:20180125T040507Z
LAST-MODIFIED:20191228T010041Z
UID:4884-1592956800-1593302399@ritgerlegacybowlingcamps.com
SUMMARY:Rockford\, Illinois
DESCRIPTION:[vc_row][vc_column][vc_row_inner][vc_column_inner width=”2/3″]Rockford\, Illinois - Four Day ProgramJune 24-27\, 20204-Day Clinic: $495.00 (Open to new and returning students)[/vc_column_inner][vc_column_inner width=”1/3″]Register for this Program [/vc_column_inner][/vc_row_inner][vc_row_inner][vc_column_inner][vc_column_text]The four-day program will focus on developing the physical game\, understanding lane play\, a formula to play the lane and spare systems to improve spare conversions. All bowlers will receive an individual evaluation and will be videotaped prior to starting the official teaching. Each bowler will be videotaped again towards the end of the program to see the before and after changes. \nStudents that have attended a program before will continue to benefit from this program. Most students do not retain 100% of the material the first time they attend. Coaches will work to identify those areas that need more attention and make sure those goals are met for returning students. For repeat students that would like more advanced material\, see Repeat Programs below. \nThe cost of the four-day program includes all your bowling and materials. Please join us and we promise you will have an educational and unique bowling experience. \n\nRepeat Programs: \nIn our four-day New/Repeat programs we offer a split class. This allows coaches to include ‘advanced’ material in a 4-day format that meets the needs of bowlers who have already attended an earlier ‘Ritger’ program. We still work on the physical game; lane adjustments; spare systems and do some additional videotaping. Mental game training is also a big part of our ‘repeat’ program. \nIf you are attending with someone that needs a new or repeat program\, click here to find a location that offers a New/Repeat program. \nIn addition to our four day programs\, we also conduct Coach Certification\, Two-Day Refreshers\, 3 Day Accelerated Programs and Advanced Programs. For more information on all of our programs please call us at: 1-800-767-2695 (1-800-SOS-BOWL).[/vc_column_text]Register for this Program [/vc_column_inner][/vc_row_inner][/vc_column][/vc_row]
URL:https://ritgerlegacybowlingcamps.com/event/rockford-illinois/
LOCATION:Don Carter Lanes\, 4007 E State St\, Rockford\, IL\, 61108\, United States
CATEGORIES:Four Day Programs
ORGANIZER;CN="Ritger Legacy Bowling Camps":MAILTO:info@ritgerlegacybowlingcamps.com
END:VEVENT
BEGIN:VEVENT
DTSTART;VALUE=DATE:20200611
DTEND;VALUE=DATE:20200615
DTSTAMP:20260421T222356
CREATED:20181209T025646Z
LAST-MODIFIED:20200114T090742Z
UID:5328-1591833600-1592179199@ritgerlegacybowlingcamps.com
SUMMARY:Wabasha\, Minnesota
DESCRIPTION:[vc_row][vc_column][vc_row_inner][vc_column_inner width=”2/3″]Wabasha\, Minnesota - Four Day ProgramJune 11-14\, 20204-Day Clinic: $495.00 (Open to new and returning students)[/vc_column_inner][vc_column_inner width=”1/3″]Register for this Program [/vc_column_inner][/vc_row_inner][vc_row_inner][vc_column_inner][vc_column_text]The four-day program will focus on developing the physical game\, understanding lane play\, a formula to play the lane and spare systems to improve spare conversions. All bowlers will receive an individual evaluation and will be videotaped prior to starting the official teaching. Each bowler will be videotaped again towards the end of the program to see the before and after changes. \nStudents that have attended a program before will continue to benefit from this program. Most students do not retain 100% of the material the first time they attend. Coaches will work to identify those areas that need more attention and make sure those goals are met for returning students. For repeat students that would like more advanced material\, see Repeat Programs below. \nThe cost of the four-day program includes all your bowling and materials. Please join us and we promise you will have an educational and unique bowling experience. \n\nRepeat Programs: \nIn our four-day New/Repeat programs we offer a split class. This allows coaches to include ‘advanced’ material in a 4-day format that meets the needs of bowlers who have already attended an earlier ‘Ritger’ program. We still work on the physical game; lane adjustments; spare systems and do some additional videotaping. Mental game training is also a big part of our ‘repeat’ program. \nIf you are attending with someone that needs a new or repeat program\, click here to find a location that offers a New/Repeat program. \nIn addition to our four day programs\, we also conduct Coach Certification\, Two-Day Refreshers\, 3 Day Accelerated Programs and Advanced Programs. For more information on all of our programs please call us at: 1-800-767-2695 (1-800-SOS-BOWL).[/vc_column_text]Register for this Program [/vc_column_inner][/vc_row_inner][/vc_column][/vc_row]
URL:https://ritgerlegacybowlingcamps.com/event/wabasha-mn-week1/
LOCATION:Riverboat Lanes\, 218 2nd St W\, Wabasha\, MN\, 55981\, United States
CATEGORIES:Four Day Programs
ORGANIZER;CN="Ritger Legacy Bowling Camps":MAILTO:info@ritgerlegacybowlingcamps.com
END:VEVENT
END:VCALENDAR